Workbook

Sheet Anubis input
A1: =CONCATENATE('ALL Activities'!A3, " ", 'ALL Activities'!C3) -> Project No: GFL-2328-2716-[XXXX]
A2: =CONCATENATE('ALL Activities'!A4, " ", 'ALL Activities'!C4) -> Project Name: Institutional Capacity to Enhance Biosafety Practices in Malaysia
A3: =CONCATENATE('ALL Activities'!A5, " ", 'ALL Activities'!C5) -> Executing Agency: Ministry of Natural Resources and Environment
A5: UNEP BUDGET LINE/OBJECT OF EXPENDITURE | E5: GLOBAL BUDGET | J5: Budget | N5: Budget | R5: Budget | V5: Budget | Z5: Budget
F6: Total (all years) | I6: Y1 | M6: Y2 | Q6: Y3 | U6: Y4 | Y6: Y5
E7: GEF | F7: GOV | G7: TOT | I7: GEF | J7: GOV | K7: TOT | M7: GEF | N7: GOV | O7: TOT | Q7: GEF | R7: GOV | S7: TOT | U7: GEF | V7: GOV | W7: TOT | Y7: GEF | Z7: GOV | AA7: TOT
A8: 10 PROJECT PERSONNEL COMPONENT
A9: 1101 | B9: National Project Coordinator | E9: =SUM(I9,M9,Q9,U9,Y9) -> 72000 | F9: =SUM(J9,N9,R9,V9,Z9) -> 0 | G9: =SUM(K9,O9,S9,W9,AA9) -> 72000 | I9: =SUM('Activity A'!E37,'Activity B'!E37,'Activity C'!E37,'Activity D'!E37,'Activity E'!E37, 'Activity F'!E37, 'Activity G'!E37) -> 12000 | J9: =SUM('Activity A'!F37,'Activity B'!F37,'Activity C'!F37,'Activity D'!F37,'Activity E'!F37, 'Activity F'!F37, 'Activity G'!F37) -> 0 | K9: =SUM(I9:J9) -> 12000 | M9: =SUM('Activity A'!G37,'Activity B'!G37,'Activity C'!G37,'Activity D'!G37,'Activity E'!G37, 'Activity F'!G37, 'Activity G'!G37) -> 20000 | N9: =SUM('Activity A'!H37,'Activity B'!H37,'Activity C'!H37,'Activity D'!H37,'Activity E'!H37, 'Activity F'!H37, 'Activity G'!H37) -> 0 | O9: =SUM(M9:N9) -> 20000 | Q9: =SUM('Activity A'!I37,'Activity B'!I37,'Activity C'!I37,'Activity D'!I37,'Activity E'!I37, 'Activity F'!I37, 'Activity G'!I37) -> 20000 | R9: =SUM('Activity A'!J37,'Activity B'!J37,'Activity C'!J37,'Activity D'!J37,'Activity E'!J37, 'Activity F'!J37, 'Activity G'!J37) -> 0 | S9: =SUM(Q9:R9) -> 20000 | U9: =SUM('Activity A'!K37,'Activity B'!K37,'Activity C'!K37,'Activity D'!K37,'Activity E'!K37, 'Activity F'!K37, 'Activity G'!K37) -> 20000 | V9: =SUM('Activity A'!L37,'Activity B'!L37,'Activity C'!L37,'Activity D'!L37,'Activity E'!L37, 'Activity F'!L37, 'Activity G'!L37) -> 0 | W9: =SUM(U9:V9) -> 20000 | Y9: =SUM('Activity A'!M37,'Activity B'!M37,'Activity C'!M37,'Activity D'!M37,'Activity E'!M37, 'Activity F'!M37, 'Activity G'!M37) -> 0 | Z9: =SUM('Activity A'!N37,'Activity B'!N37,'Activity C'!N37,'Activity D'!N37,'Activity E'!N37, 'Activity F'!N37) -> 0 | AA9: =SUM(Y9:Z9) -> 0
A10: 1102 | B10: Project Staff | E10: =SUM(I10,M10,Q10,U10,Y10) -> 0 | F10: =SUM(J10,N10,R10,V10,Z10) -> 481000 | G10: =SUM(K10,O10,S10,W10,AA10) -> 481000 | I10: =SUM('Activity A'!E38,'Activity B'!E38,'Activity C'!E38,'Activity D'!E38,'Activity E'!E38, 'Activity F'!E38, 'Activity G'!E38) -> 0 | J10: =SUM('Activity A'!F38,'Activity B'!F38,'Activity C'!F38,'Activity D'!F38,'Activity E'!F38, 'Activity F'!F38, 'Activity G'!F38) -> 76500 | K10: =SUM(I10:J10) -> 76500 | M10: =SUM('Activity A'!G38,'Activity B'!G38,'Activity C'!G38,'Activity D'!G38,'Activity E'!G38, 'Activity F'!G38, 'Activity G'!G38) -> 0 | N10: =SUM('Activity A'!H38,'Activity B'!H38,'Activity C'!H38,'Activity D'!H38,'Activity E'!H38, 'Activity F'!H38, 'Activity G'!H38) -> 160500 | O10: =SUM(M10:N10) -> 160500 | Q10: =SUM('Activity A'!I38,'Activity B'!I38,'Activity C'!I38,'Activity D'!I38,'Activity E'!I38, 'Activity F'!I38, 'Activity G'!I38) -> 0 | R10: =SUM('Activity A'!J38,'Activity B'!J38,'Activity C'!J38,'Activity D'!J38,'Activity E'!J38, 'Activity F'!J38, 'Activity G'!J38) -> 123000 | S10: =SUM(Q10:R10) -> 123000 | U10: =SUM('Activity A'!K38,'Activity B'!K38,'Activity C'!K38,'Activity D'!K38,'Activity E'!K38, 'Activity F'!K38, 'Activity G'!K38) -> 0 | V10: =SUM('Activity A'!L38,'Activity B'!L38,'Activity C'!L38,'Activity D'!L38,'Activity E'!L38, 'Activity F'!L38, 'Activity G'!L38) -> 121000 | W10: =SUM(U10:V10) -> 121000 | Y10: =SUM('Activity A'!M38,'Activity B'!M38,'Activity C'!M38,'Activity D'!M38,'Activity E'!M38, 'Activity F'!M38, 'Activity G'!M38) -> 0 | Z10: =SUM('Activity A'!N38,'Activity B'!N38,'Activity C'!N38,'Activity D'!N38,'Activity E'!N38, 'Activity F'!N38) -> 0 | AA10: =SUM(Y10:Z10) -> 0
A11: 1120 | B11: Administrative Staff | E11: =SUM(I11,M11,Q11,U11,Y11) -> 0 | F11: =SUM(J11,N11,R11,V11,Z11) -> 0 | G11: =SUM(K11,O11,S11,W11,AA11) -> 0 | I11: =SUM('Activity A'!E39,'Activity B'!E39,'Activity C'!E39,'Activity D'!E39,'Activity E'!E39, 'Activity F'!E39, 'Activity G'!E39) -> 0 | J11: =SUM('Activity A'!F39,'Activity B'!F39,'Activity C'!F39,'Activity D'!F39,'Activity E'!F39, 'Activity F'!F39, 'Activity G'!F39) -> 0 | K11: =SUM(I11:J11) -> 0 | M11: =SUM('Activity A'!G39,'Activity B'!G39,'Activity C'!G39,'Activity D'!G39,'Activity E'!G39, 'Activity F'!G39, 'Activity G'!G39) -> 0 | N11: =SUM('Activity A'!H39,'Activity B'!H39,'Activity C'!H39,'Activity D'!H39,'Activity E'!H39, 'Activity F'!H39, 'Activity G'!H39) -> 0 | O11: =SUM(M11:N11) -> 0 | Q11: =SUM('Activity A'!I39,'Activity B'!I39,'Activity C'!I39,'Activity D'!I39,'Activity E'!I39, 'Activity F'!I39, 'Activity G'!I39) -> 0 | R11: =SUM('Activity A'!J39,'Activity B'!J39,'Activity C'!J39,'Activity D'!J39,'Activity E'!J39, 'Activity F'!J39, 'Activity G'!J39) -> 0 | S11: =SUM(Q11:R11) -> 0 | U11: =SUM('Activity A'!K39,'Activity B'!K39,'Activity C'!K39,'Activity D'!K39,'Activity E'!K39, 'Activity F'!K39, 'Activity G'!K39) -> 0 | V11: =SUM('Activity A'!L39,'Activity B'!L39,'Activity C'!L39,'Activity D'!L39,'Activity E'!L39, 'Activity F'!L39, 'Activity G'!L39) -> 0 | W11: =SUM(U11:V11) -> 0 | Y11: =SUM('Activity A'!M39,'Activity B'!M39,'Activity C'!M39,'Activity D'!M39,'Activity E'!M39, 'Activity F'!M39, 'Activity G'!M39) -> 0 | Z11: =SUM('Activity A'!N39,'Activity B'!N39,'Activity C'!N39,'Activity D'!N39,'Activity E'!N39, 'Activity F'!N39) -> 0 | AA11: =SUM(Y11:Z11) -> 0
A12: 1201 | B12: International Consultants | E12: =SUM(I12,M12,Q12,U12,Y12) -> 10000 | F12: =SUM(J12,N12,R12,V12,Z12) -> 0 | G12: =SUM(K12,O12,S12,W12,AA12) -> 10000 | I12: =SUM('Activity A'!E40,'Activity B'!E40,'Activity C'!E40,'Activity D'!E40,'Activity E'!E40, 'Activity F'!E40, 'Activity G'!E40) -> 0 | J12: =SUM('Activity A'!F40,'Activity B'!F40,'Activity C'!F40,'Activity D'!F40,'Activity E'!F40, 'Activity F'!F40, 'Activity G'!F40) -> 0 | K12: =SUM(I12:J12) -> 0 | M12: =SUM('Activity A'!G40,'Activity B'!G40,'Activity C'!G40,'Activity D'!G40,'Activity E'!G40, 'Activity F'!G40, 'Activity G'!G40) -> 8000 | N12: =SUM('Activity A'!H40,'Activity B'!H40,'Activity C'!H40,'Activity D'!H40,'Activity E'!H40, 'Activity F'!H40, 'Activity G'!H40) -> 0 | O12: =SUM(M12:N12) -> 8000 | Q12: =SUM('Activity A'!I40,'Activity B'!I40,'Activity C'!I40,'Activity D'!I40,'Activity E'!I40, 'Activity F'!I40, 'Activity G'!I40) -> 2000 | R12: =SUM('Activity A'!J40,'Activity B'!J40,'Activity C'!J40,'Activity D'!J40,'Activity E'!J40, 'Activity F'!J40, 'Activity G'!J40) -> 0 | S12: =SUM(Q12:R12) -> 2000 | U12: =SUM('Activity A'!K40,'Activity B'!K40,'Activity C'!K40,'Activity D'!K40,'Activity E'!K40, 'Activity F'!K40, 'Activity G'!K40) -> 0 | V12: =SUM('Activity A'!L40,'Activity B'!L40,'Activity C'!L40,'Activity D'!L40,'Activity E'!L40, 'Activity F'!L40, 'Activity G'!L40) -> 0 | W12: =SUM(U12:V12) -> 0 | Y12: =SUM('Activity A'!M40,'Activity B'!M40,'Activity C'!M40,'Activity D'!M40,'Activity E'!M40, 'Activity F'!M40, 'Activity G'!M40) -> 0 | Z12: =SUM('Activity A'!N40,'Activity B'!N40,'Activity C'!N40,'Activity D'!N40,'Activity E'!N40, 'Activity F'!N40) -> 0 | AA12: =SUM(Y12:Z12) -> 0
A13: 1202 | B13: National Consultants | E13: =SUM(I13,M13,Q13,U13,Y13) -> 60000 | F13: =SUM(J13,N13,R13,V13,Z13) -> 0 | G13: =SUM(K13,O13,S13,W13,AA13) -> 60000 | I13: =SUM('Activity A'!E41,'Activity B'!E41,'Activity C'!E41,'Activity D'!E41,'Activity E'!E41, 'Activity F'!E41, 'Activity G'!E41) -> 13500 | J13: =SUM('Activity A'!F41,'Activity B'!F41,'Activity C'!F41,'Activity D'!F41,'Activity E'!F41, 'Activity F'!F41, 'Activity G'!F41) -> 0 | K13: =SUM(I13:J13) -> 13500 | M13: =SUM('Activity A'!G41,'Activity B'!G41,'Activity C'!G41,'Activity D'!G41,'Activity E'!G41, 'Activity F'!G41, 'Activity G'!G41) -> 25500 | N13: =SUM('Activity A'!H41,'Activity B'!H41,'Activity C'!H41,'Activity D'!H41,'Activity E'!H41, 'Activity F'!H41, 'Activity G'!H41) -> 0 | O13: =SUM(M13:N13) -> 25500 | Q13: =SUM('Activity A'!I41,'Activity B'!I41,'Activity C'!I41,'Activity D'!I41,'Activity E'!I41, 'Activity F'!I41, 'Activity G'!I41) -> 19000 | R13: =SUM('Activity A'!J41,'Activity B'!J41,'Activity C'!J41,'Activity D'!J41,'Activity E'!J41, 'Activity F'!J41, 'Activity G'!J41) -> 0 | S13: =SUM(Q13:R13) -> 19000 | U13: =SUM('Activity A'!K41,'Activity B'!K41,'Activity C'!K41,'Activity D'!K41,'Activity E'!K41, 'Activity F'!K41, 'Activity G'!K41) -> 2000 | V13: =SUM('Activity A'!L41,'Activity B'!L41,'Activity C'!L41,'Activity D'!L41,'Activity E'!L41, 'Activity F'!L41, 'Activity G'!L41) -> 0 | W13: =SUM(U13:V13) -> 2000 | Y13: =SUM('Activity A'!M41,'Activity B'!M41,'Activity C'!M41,'Activity D'!M41,'Activity E'!M41, 'Activity F'!M41, 'Activity G'!M41) -> 0 | Z13: =SUM('Activity A'!N41,'Activity B'!N41,'Activity C'!N41,'Activity D'!N41,'Activity E'!N41, 'Activity F'!N41) -> 0 | AA13: =SUM(Y13:Z13) -> 0
A14: 1601 | B14: Staff Travel & Transport | E14: =SUM(I14,M14,Q14,U14,Y14) -> 36500 | F14: =SUM(J14,N14,R14,V14,Z14) -> 111000 | G14: =SUM(K14,O14,S14,W14,AA14) -> 147500 | I14: =SUM('Activity A'!E42,'Activity B'!E42,'Activity C'!E42,'Activity D'!E42,'Activity E'!E42, 'Activity F'!E42, 'Activity G'!E42) -> 5250 | J14: =SUM('Activity A'!F42,'Activity B'!F42,'Activity C'!F42,'Activity D'!F42,'Activity E'!F42, 'Activity F'!F42, 'Activity G'!F42) -> 15000 | K14: =SUM(I14:J14) -> 20250 | M14: =SUM('Activity A'!G42,'Activity B'!G42,'Activity C'!G42,'Activity D'!G42,'Activity E'!G42, 'Activity F'!G42, 'Activity G'!G42) -> 21750 | N14: =SUM('Activity A'!H42,'Activity B'!H42,'Activity C'!H42,'Activity D'!H42,'Activity E'!H42, 'Activity F'!H42, 'Activity G'!H42) -> 66000 | O14: =SUM(M14:N14) -> 87750 | Q14: =SUM('Activity A'!I42,'Activity B'!I42,'Activity C'!I42,'Activity D'!I42,'Activity E'!I42, 'Activity F'!I42, 'Activity G'!I42) -> 4750 | R14: =SUM('Activity A'!J42,'Activity B'!J42,'Activity C'!J42,'Activity D'!J42,'Activity E'!J42, 'Activity F'!J42, 'Activity G'!J42) -> 15000 | S14: =SUM(Q14:R14) -> 19750 | U14: =SUM('Activity A'!K42,'Activity B'!K42,'Activity C'!K42,'Activity D'!K42,'Activity E'!K42, 'Activity F'!K42, 'Activity G'!K42) -> 4750 | V14: =SUM('Activity A'!L42,'Activity B'!L42,'Activity C'!L42,'Activity D'!L42,'Activity E'!L42, 'Activity F'!L42, 'Activity G'!L42) -> 15000 | W14: =SUM(U14:V14) -> 19750 | Y14: =SUM('Activity A'!M42,'Activity B'!M42,'Activity C'!M42,'Activity D'!M42,'Activity E'!M42, 'Activity F'!M42, 'Activity G'!M42) -> 0 | Z14: =SUM('Activity A'!N42,'Activity B'!N42,'Activity C'!N42,'Activity D'!N42,'Activity E'!N42, 'Activity F'!N42) -> 0 | AA14: =SUM(Y14:Z14) -> 0
A15: 1999 | B15: Component Total | E15: =SUM(I15,M15,Q15,U15,Y15) -> 178500 | F15: =SUM(J15,N15,R15,V15,Z15) -> 592000 | G15: =SUM(K15,O15,S15,W15,AA15) -> 770500 | I15: =SUM(I9:I14) -> 30750 | J15: =SUM(J9:J14) -> 91500 | K15: =SUM(I15:J15) -> 122250 | M15: =SUM(M9:M14) -> 75250 | N15: =SUM(N9:N14) -> 226500 | O15: =SUM(M15:N15) -> 301750 | Q15: =SUM(Q9:Q14) -> 45750 | R15: =SUM(R9:R14) -> 138000 | S15: =SUM(Q15:R15) -> 183750 | U15: =SUM(U9:U14) -> 26750 | V15: =SUM(V9:V14) -> 136000 | W15: =SUM(U15:V15) -> 162750 | Y15: =SUM(Y9:Y14) -> 0 | Z15: =SUM(Z9:Z14) -> 0 | AA15: =SUM(Y15:Z15) -> 0
A16: 20 SUB-CONTRACT COMPONENT
A17: 2201 | B17: Sub-contract to governmental agencies | E17: =SUM(I17,M17,Q17,U17,Y17) -> 102500 | F17: =SUM(J17,N17,R17,V17,Z17) -> 313500 | G17: =SUM(K17,O17,S17,W17,AA17) -> 416000 | I17: =SUM('Activity A'!E43,'Activity B'!E43,'Activity C'!E43,'Activity D'!E43,'Activity E'!E43, 'Activity F'!E43, 'Activity G'!E43) -> 14500 | J17: =SUM('Activity A'!F43,'Activity B'!F43,'Activity C'!F43,'Activity D'!F43,'Activity E'!F43, 'Activity F'!F43, 'Activity G'!F43) -> 49500 | K17: =SUM(I17:J17) -> 64000 | M17: =SUM('Activity A'!G43,'Activity B'!G43,'Activity C'!G43,'Activity D'!G43,'Activity E'!G43, 'Activity F'!G43, 'Activity G'!G43) -> 43000 | N17: =SUM('Activity A'!H43,'Activity B'!H43,'Activity C'!H43,'Activity D'!H43,'Activity E'!H43, 'Activity F'!H43, 'Activity G'!H43) -> 129000 | O17: =SUM(M17:N17) -> 172000 | Q17: =SUM('Activity A'!I43,'Activity B'!I43,'Activity C'!I43,'Activity D'!I43, 'Activity E'!I43, 'Activity F'!I43, 'Activity G'!I43) -> 32000 | R17: =SUM('Activity A'!J43,'Activity B'!J43,'Activity C'!J43,'Activity D'!J43, 'Activity E'!J43, 'Activity F'!J43, 'Activity G'!J43) -> 96000 | S17: =SUM(Q17:R17) -> 128000 | U17: =SUM('Activity A'!K43,'Activity B'!K43,'Activity C'!K43,'Activity D'!K43,'Activity E'!K43, 'Activity F'!K43, 'Activity G'!K43) -> 13000 | V17: =SUM('Activity A'!L43,'Activity B'!L43,'Activity C'!L43,'Activity D'!L43,'Activity E'!L43, 'Activity F'!L43, 'Activity G'!L43) -> 39000 | W17: =SUM(U17:V17) -> 52000 | Y17: =SUM('Activity A'!M43,'Activity B'!M43,'Activity C'!M43,'Activity D'!M43,'Activity E'!M43, 'Activity F'!M43, 'Activity G'!M43) -> 0 | Z17: =SUM('Activity A'!N43,'Activity B'!N43,'Activity C'!N43,'Activity D'!N43,'Activity E'!N43, 'Activity F'!N43, 'Activity G'!N43) -> 0 | AA17: =SUM(Y17:Z17) -> 0
A18: 2301 | B18: Sub-contract to private firms | E18: =SUM(I18,M18,Q18,U18,Y18) -> 45000 | F18: =SUM(J18,N18,R18,V18,Z18) -> 129000 | G18: =SUM(K18,O18,S18,W18,AA18) -> 174000 | I18: =SUM('Activity A'!E44,'Activity B'!E44,'Activity C'!E44,'Activity D'!E44,'Activity E'!E44, 'Activity F'!E44, 'Activity G'!E44) -> 4000 | J18: =SUM('Activity A'!F44,'Activity B'!F44,'Activity C'!F44,'Activity D'!F44,'Activity E'!F44, 'Activity F'!F44, 'Activity G'!F44) -> 6000 | K18: =SUM(I18:J18) -> 10000 | M18: =SUM('Activity A'!G44,'Activity B'!G44,'Activity C'!G44,'Activity D'!G44,'Activity E'!G44, 'Activity F'!G44, 'Activity G'!G44) -> 25000 | N18: =SUM('Activity A'!H44,'Activity B'!H44,'Activity C'!H44,'Activity D'!H44,'Activity E'!H44, 'Activity F'!H44, 'Activity G'!H44) -> 75000 | O18: =SUM(M18:N18) -> 100000 | Q18: =SUM('Activity A'!I44,'Activity B'!I44,'Activity C'!I44,'Activity D'!I44, 'Activity E'!I44, 'Activity F'!I44, 'Activity G'!I44) -> 14000 | R18: =SUM('Activity A'!J44,'Activity B'!J44,'Activity C'!J44,'Activity D'!J44, 'Activity E'!J44, 'Activity F'!J44, 'Activity G'!J44) -> 42000 | S18: =SUM(Q18:R18) -> 56000 | U18: =SUM('Activity A'!K44,'Activity B'!K44,'Activity C'!K44,'Activity D'!K44,'Activity E'!K44, 'Activity F'!K44, 'Activity G'!K44) -> 2000 | V18: =SUM('Activity A'!L44,'Activity B'!L44,'Activity C'!L44,'Activity D'!L44,'Activity E'!L44, 'Activity F'!L44, 'Activity G'!L44) -> 6000 | W18: =SUM(U18:V18) -> 8000 | Y18: =SUM('Activity A'!M44,'Activity B'!M44,'Activity C'!M44,'Activity D'!M44,'Activity E'!M44, 'Activity F'!M44, 'Activity G'!M44) -> 0 | Z18: =SUM('Activity A'!N44,'Activity B'!N44,'Activity C'!N44,'Activity D'!N44,'Activity E'!N44, 'Activity F'!N44, 'Activity G'!N44) -> 0 | AA18: =SUM(Y18:Z18) -> 0
A19: 2999 | B19: Component Total | E19: =SUM(I19,M19,Q19,U19,Y19) -> 147500 | F19: =SUM(J19,N19,R19,V19,Z19) -> 442500 | G19: =SUM(K19,O19,S19,W19,AA19) -> 590000 | I19: =SUM(I17:I18) -> 18500 | J19: =SUM(J17:J18) -> 55500 | K19: =SUM(I19:J19) -> 74000 | M19: =SUM(M17:M18) -> 68000 | N19: =SUM(N17:N18) -> 204000 | O19: =SUM(M19:N19) -> 272000 | Q19: =SUM(Q17:Q18) -> 46000 | R19: =SUM(R17:R18) -> 138000 | S19: =SUM(Q19:R19) -> 184000 | U19: =SUM(U17:U18) -> 15000 | V19: =SUM(V17:V18) -> 45000 | W19: =SUM(U19:V19) -> 60000 | Y19: =SUM(Y17:Y18) -> 0 | Z19: =SUM(Z17:Z18) -> 0 | AA19: =SUM(Y19:Z19) -> 0
A20: 30 TRAINING COMPONENT
A21: 3201 | B21: Training | E21: =SUM(I21,M21,Q21,U21,Y21) -> 123000 | F21: =SUM(J21,N21,R21,V21,Z21) -> 369000 | G21: =SUM(K21,O21,S21,W21,AA21) -> 492000 | I21: =SUM('Activity A'!E45,'Activity B'!E45,'Activity C'!E45,'Activity D'!E45,'Activity E'!E45, 'Activity F'!E45, 'Activity G'!E45) -> 20500 | J21: =SUM('Activity A'!F45,'Activity B'!F45,'Activity C'!F45,'Activity D'!F45,'Activity E'!F45, 'Activity F'!F45, 'Activity G'!F45) -> 61500 | K21: =SUM(I21:J21) -> 82000 | M21: =SUM('Activity A'!G45,'Activity B'!G45,'Activity C'!G45,'Activity D'!G45,'Activity E'!G45, 'Activity F'!G45, 'Activity G'!G45) -> 47000 | N21: =SUM('Activity A'!H45,'Activity B'!H45,'Activity C'!H45,'Activity D'!H45,'Activity E'!H45, 'Activity F'!H45, 'Activity G'!H45) -> 141000 | O21: =SUM(M21:N21) -> 188000 | Q21: =SUM('Activity A'!I45,'Activity B'!I45,'Activity C'!I45,'Activity D'!I45,'Activity E'!I45, 'Activity F'!I45, 'Activity G'!I45) -> 35000 | R21: =SUM('Activity A'!J45,'Activity B'!J45,'Activity C'!J45,'Activity D'!J45,'Activity E'!J45, 'Activity F'!J45, 'Activity G'!J45) -> 105000 | S21: =SUM(Q21:R21) -> 140000 | U21: =SUM('Activity A'!K45,'Activity B'!K45,'Activity C'!K45,'Activity D'!K45,'Activity E'!K45, 'Activity F'!K45, 'Activity G'!K45) -> 20500 | V21: =SUM('Activity A'!L45,'Activity B'!L45,'Activity C'!L45,'Activity D'!L45,'Activity E'!L45, 'Activity F'!L45, 'Activity G'!L45) -> 61500 | W21: =SUM(U21:V21) -> 82000 | Y21: =SUM('Activity A'!M45,'Activity B'!M45,'Activity C'!M45,'Activity D'!M45,'Activity E'!M45, 'Activity F'!M45, 'Activity G'!M45) -> 0 | Z21: =SUM('Activity A'!N45,'Activity B'!N45,'Activity C'!N45,'Activity D'!N45,'Activity E'!N45, 'Activity F'!N45, 'Activity G'!N45) -> 0 | AA21: =SUM(Y21:Z21) -> 0
A22: 3301 | B22: Meetings | E22: =SUM(I22,M22,Q22,U22,Y22) -> 86500 | F22: =SUM(J22,N22,R22,V22,Z22) -> 259500 | G22: =SUM(K22,O22,S22,W22,AA22) -> 346000 | I22: =SUM('Activity A'!E46,'Activity B'!E46,'Activity C'!E46,'Activity D'!E46,'Activity E'!E46, 'Activity F'!E46, 'Activity G'!E46) -> 15500 | J22: =SUM('Activity A'!F46,'Activity B'!F46,'Activity C'!F46,'Activity D'!F46,'Activity E'!F46, 'Activity F'!F46, 'Activity G'!F46) -> 46500 | K22: =SUM(I22:J22) -> 62000 | M22: =SUM('Activity A'!G46,'Activity B'!G46,'Activity C'!G46,'Activity D'!G46,'Activity E'!G46, 'Activity F'!G46, 'Activity G'!G46) -> 38000 | N22: =SUM('Activity A'!H46,'Activity B'!H46,'Activity C'!H46,'Activity D'!H46,'Activity E'!H46, 'Activity F'!H46, 'Activity G'!H46) -> 114000 | O22: =SUM(M22:N22) -> 152000 | Q22: =SUM('Activity A'!I46,'Activity B'!I46,'Activity C'!I46,'Activity D'!I46,'Activity E'!I46, 'Activity F'!I46, 'Activity G'!I46) -> 25500 | R22: =SUM('Activity A'!J46,'Activity B'!J46,'Activity C'!J46,'Activity D'!J46,'Activity E'!J46, 'Activity F'!J46, 'Activity G'!J46) -> 76500 | S22: =SUM(Q22:R22) -> 102000 | U22: =SUM('Activity A'!K46,'Activity B'!K46,'Activity C'!K46,'Activity D'!K46,'Activity E'!K46, 'Activity F'!K46, 'Activity G'!K46) -> 7500 | V22: =SUM('Activity A'!L46,'Activity B'!L46,'Activity C'!L46,'Activity D'!L46,'Activity E'!L46, 'Activity F'!L46, 'Activity G'!L46) -> 22500 | W22: =SUM(U22:V22) -> 30000 | Y22: =SUM('Activity A'!M46,'Activity B'!M46,'Activity C'!M46,'Activity D'!M46,'Activity E'!M46, 'Activity F'!M46, 'Activity G'!M46) -> 0 | Z22: =SUM('Activity A'!N46,'Activity B'!N46,'Activity C'!N46,'Activity D'!N46,'Activity E'!N46, 'Activity F'!N46, 'Activity G'!N46) -> 0 | AA22: =SUM(Y22:Z22) -> 0
A23: 3999 | B23: Component Total | E23: =SUM(I23,M23,Q23,U23,Y23) -> 209500 | F23: =SUM(J23,N23,R23,V23,Z23) -> 628500 | G23: =SUM(K23,O23,S23,W23,AA23) -> 838000 | I23: =SUM(I21:I22) -> 36000 | J23: =SUM(J21:J22) -> 108000 | K23: =SUM(I23:J23) -> 144000 | M23: =SUM(M21:M22) -> 85000 | N23: =SUM(N21:N22) -> 255000 | O23: =SUM(M23:N23) -> 340000 | Q23: =SUM(Q21:Q22) -> 60500 | R23: =SUM(R21:R22) -> 181500 | S23: =SUM(Q23:R23) -> 242000 | U23: =SUM(U21:U22) -> 28000 | V23: =SUM(V21:V22) -> 84000 | W23: =SUM(U23:V23) -> 112000 | Y23: =SUM(Y21:Y22) -> 0 | Z23: =SUM(Z21:Z22) -> 0 | AA23: =SUM(Y23:Z23) -> 0
A24: 40 EQUIPMENT & PREMISES COMPONENT
A25: 4101 | B25: Office supplies and consummables | E25: =SUM(I25,M25,Q25,U25,Y25) -> 16000 | F25: =SUM(J25,N25,R25,V25,Z25) -> 48000 | G25: =SUM(K25,O25,S25,W25,AA25) -> 64000 | I25: =SUM('Activity A'!E47,'Activity B'!E47,'Activity C'!E47,'Activity D'!E47,'Activity E'!E47, 'Activity F'!E47, 'Activity G'!E47) -> 3000 | J25: =SUM('Activity A'!F47,'Activity B'!F47,'Activity C'!F47,'Activity D'!F47,'Activity E'!F47, 'Activity F'!F47, 'Activity G'!F47) -> 9000 | K25: =SUM(I25:J25) -> 12000 | M25: =SUM('Activity A'!G47,'Activity B'!G47,'Activity C'!G47,'Activity D'!G47,'Activity E'!G47, 'Activity F'!G47, 'Activity G'!G47) -> 5000 | N25: =SUM('Activity A'!H47,'Activity B'!H47,'Activity C'!H47,'Activity D'!H47,'Activity E'!H47, 'Activity F'!H47, 'Activity G'!H47) -> 15000 | O25: =SUM(M25:N25) -> 20000 | Q25: =SUM('Activity A'!I47,'Activity B'!I47,'Activity C'!I47,'Activity D'!I47,'Activity E'!I47, 'Activity F'!I47, 'Activity G'!I47) -> 5000 | R25: =SUM('Activity A'!J47,'Activity B'!J47,'Activity C'!J47,'Activity D'!J47,'Activity E'!J47, 'Activity F'!J47, 'Activity G'!J47) -> 15000 | S25: =SUM(Q25:R25) -> 20000 | U25: =SUM('Activity A'!K47,'Activity B'!K47,'Activity C'!K47,'Activity D'!K47,'Activity E'!K47, 'Activity F'!K47, 'Activity G'!K47) -> 3000 | V25: =SUM('Activity A'!L47,'Activity B'!L47,'Activity C'!L47,'Activity D'!L47,'Activity E'!L47, 'Activity F'!L47, 'Activity G'!L47) -> 9000 | W25: =SUM(U25:V25) -> 12000 | Y25: =SUM('Activity A'!M47,'Activity B'!M47,'Activity C'!M47,'Activity D'!M47,'Activity E'!M47, 'Activity F'!M47, 'Activity G'!M47) -> 0 | Z25: =SUM('Activity A'!N47,'Activity B'!N47,'Activity C'!N47,'Activity D'!N47,'Activity E'!N47, 'Activity F'!N47, 'Activity G'!N47) -> 0 | AA25: =SUM(Y25:Z25) -> 0
A26: 4102 | B26: Laboratory supplies and consummables | E26: =SUM(I26,M26,Q26,U26,Y26) -> 0 | F26: =SUM(J26,N26,R26,V26,Z26) -> 0 | G26: =SUM(K26,O26,S26,W26,AA26) -> 0 | I26: =SUM('Activity A'!E48,'Activity B'!E48,'Activity C'!E48,'Activity D'!E48,'Activity E'!E48, 'Activity F'!E48, 'Activity G'!E48) -> 0 | J26: =SUM('Activity A'!F48,'Activity B'!F48,'Activity C'!F48,'Activity D'!F48,'Activity E'!F48, 'Activity F'!F48, 'Activity G'!F48) -> 0 | K26: =SUM(I26:J26) -> 0 | M26: =SUM('Activity A'!G48,'Activity B'!G48,'Activity C'!G48,'Activity D'!G48,'Activity E'!G48, 'Activity F'!G48, 'Activity G'!G48) -> 0 | N26: =SUM('Activity A'!H48,'Activity B'!H48,'Activity C'!H48,'Activity D'!H48,'Activity E'!H48, 'Activity F'!H48, 'Activity G'!H48) -> 0 | O26: =SUM(M26:N26) -> 0 | Q26: =SUM('Activity A'!I48,'Activity B'!I48,'Activity C'!I48,'Activity D'!I48,'Activity E'!I48, 'Activity F'!I48, 'Activity G'!I48) -> 0 | R26: =SUM('Activity A'!J48,'Activity B'!J48,'Activity C'!J48,'Activity D'!J48,'Activity E'!J48, 'Activity F'!J48, 'Activity G'!J48) -> 0 | S26: =SUM(Q26:R26) -> 0 | U26: =SUM('Activity A'!K48,'Activity B'!K48,'Activity C'!K48,'Activity D'!K48,'Activity E'!K48, 'Activity F'!K48, 'Activity G'!K48) -> 0 | V26: =SUM('Activity A'!L48,'Activity B'!L48,'Activity C'!L48,'Activity D'!L48,'Activity E'!L48, 'Activity F'!L48, 'Activity G'!L48) -> 0 | W26: =SUM(U26:V26) -> 0 | Y26: =SUM('Activity A'!M48,'Activity B'!M48,'Activity C'!M48,'Activity D'!M48,'Activity E'!M48, 'Activity F'!M48, 'Activity G'!M48) -> 0 | Z26: =SUM('Activity A'!N48,'Activity B'!N48,'Activity C'!N48,'Activity D'!N48,'Activity E'!N48, 'Activity F'!N48, 'Activity G'!N48) -> 0 | AA26: =SUM(Y26:Z26) -> 0
A27: 4201 | B27: Non Laboratory Purchase | E27: =SUM(I27,M27,Q27,U27,Y27) -> 10000 | F27: =SUM(J27,N27,R27,V27,Z27) -> 30000 | G27: =SUM(K27,O27,S27,W27,AA27) -> 40000 | I27: =SUM('Activity A'!E49,'Activity B'!E49,'Activity C'!E49,'Activity D'!E49,'Activity E'!E49, 'Activity F'!E49, 'Activity G'!E49) -> 0 | J27: =SUM('Activity A'!F49,'Activity B'!F49,'Activity C'!F49,'Activity D'!F49,'Activity E'!F49, 'Activity F'!F49, 'Activity G'!F49) -> 0 | K27: =SUM(I27:J27) -> 0 | M27: =SUM('Activity A'!G49,'Activity B'!G49,'Activity C'!G49,'Activity D'!G49,'Activity E'!G49, 'Activity F'!G49, 'Activity G'!G49) -> 5000 | N27: =SUM('Activity A'!H49,'Activity B'!H49,'Activity C'!H49,'Activity D'!H49,'Activity E'!H49, 'Activity F'!H49, 'Activity G'!H49) -> 15000 | O27: =SUM(M27:N27) -> 20000 | Q27: =SUM('Activity A'!I49,'Activity B'!I49,'Activity C'!I49,'Activity D'!I49,'Activity E'!I49, 'Activity F'!I49, 'Activity G'!I49) -> 5000 | R27: =SUM('Activity A'!J49,'Activity B'!J49,'Activity C'!J49,'Activity D'!J49,'Activity E'!J49, 'Activity F'!J49, 'Activity G'!J49) -> 15000 | S27: =SUM(Q27:R27) -> 20000 | U27: =SUM('Activity A'!K49,'Activity B'!K49,'Activity C'!K49,'Activity D'!K49,'Activity E'!K49, 'Activity F'!K49, 'Activity G'!K49) -> 0 | V27: =SUM('Activity A'!L49,'Activity B'!L49,'Activity C'!L49,'Activity D'!L49,'Activity E'!L49, 'Activity F'!L49, 'Activity G'!L49) -> 0 | W27: =SUM(U27:V27) -> 0 | Y27: =SUM('Activity A'!M49,'Activity B'!M49,'Activity C'!M49,'Activity D'!M49,'Activity E'!M49, 'Activity F'!M49, 'Activity G'!M49) -> 0 | Z27: =SUM('Activity A'!N49,'Activity B'!N49,'Activity C'!N49,'Activity D'!N49,'Activity E'!N49, 'Activity F'!N49, 'Activity G'!N49) -> 0 | AA27: =SUM(Y27:Z27) -> 0
A28: 4202 | B28: Laboratory Equipment | E28: =SUM(I28,M28,Q28,U28,Y28) -> 15000 | F28: =SUM(J28,N28,R28,V28,Z28) -> 45000 | G28: =SUM(K28,O28,S28,W28,AA28) -> 60000 | I28: =SUM('Activity A'!E50,'Activity B'!E50,'Activity C'!E50,'Activity D'!E50,'Activity E'!E50, 'Activity F'!E50, 'Activity G'!E50) -> 2500 | J28: =SUM('Activity A'!F50,'Activity B'!F50,'Activity C'!F50,'Activity D'!F50,'Activity E'!F50, 'Activity F'!F50, 'Activity G'!F50) -> 7500 | K28: =SUM(I28:J28) -> 10000 | M28: =SUM('Activity A'!G50,'Activity B'!G50,'Activity C'!G50,'Activity D'!G50,'Activity E'!G50, 'Activity F'!G50, 'Activity G'!G50) -> 5000 | N28: =SUM('Activity A'!H50,'Activity B'!H50,'Activity C'!H50,'Activity D'!H50,'Activity E'!H50, 'Activity F'!H50, 'Activity G'!H50) -> 15000 | O28: =SUM(M28:N28) -> 20000 | Q28: =SUM('Activity A'!I50,'Activity B'!I50,'Activity C'!I50,'Activity D'!I50,'Activity E'!I50, 'Activity F'!I50, 'Activity G'!I50) -> 5000 | R28: =SUM('Activity A'!J50,'Activity B'!J50,'Activity C'!J50,'Activity D'!J50,'Activity E'!J50, 'Activity F'!J50, 'Activity G'!J50) -> 15000 | S28: =SUM(Q28:R28) -> 20000 | U28: =SUM('Activity A'!K50,'Activity B'!K50,'Activity C'!K50,'Activity D'!K50,'Activity E'!K50, 'Activity F'!K50, 'Activity G'!K50) -> 2500 | V28: =SUM('Activity A'!L50,'Activity B'!L50,'Activity C'!L50,'Activity D'!L50,'Activity E'!L50, 'Activity F'!L50, 'Activity G'!L50) -> 7500 | W28: =SUM(U28:V28) -> 10000 | Y28: =SUM('Activity A'!M50,'Activity B'!M50,'Activity C'!M50,'Activity D'!M50,'Activity E'!M50, 'Activity F'!M50, 'Activity G'!M50) -> 0 | Z28: =SUM('Activity A'!N50,'Activity B'!N50,'Activity C'!N50,'Activity D'!N50,'Activity E'!N50, 'Activity F'!N50, 'Activity G'!N50) -> 0 | AA28: =SUM(Y28:Z28) -> 0
A29: 4301 | B29: Office Premises | E29: =SUM(I29,M29,Q29,U29,Y29) -> 0 | F29: =SUM(J29,N29,R29,V29,Z29) -> 0 | G29: =SUM(K29,O29,S29,W29,AA29) -> 0 | I29: =SUM('Activity A'!E51,'Activity B'!E51,'Activity C'!E51,'Activity D'!E51,'Activity E'!E51, 'Activity F'!E51, 'Activity G'!E51) -> 0 | J29: =SUM('Activity A'!F51,'Activity B'!F51,'Activity C'!F51,'Activity D'!F51,'Activity E'!F51, 'Activity F'!F51, 'Activity G'!F51) -> 0 | K29: =SUM(I29:J29) -> 0 | M29: =SUM('Activity A'!G51,'Activity B'!G51,'Activity C'!G51,'Activity D'!G51,'Activity E'!G51, 'Activity F'!G51, 'Activity G'!G51) -> 0 | N29: =SUM('Activity A'!H51,'Activity B'!H51,'Activity C'!H51,'Activity D'!H51,'Activity E'!H51, 'Activity F'!H51, 'Activity G'!H51) -> 0 | O29: =SUM(M29:N29) -> 0 | Q29: =SUM('Activity A'!I51,'Activity B'!I51,'Activity C'!I51,'Activity D'!I51,'Activity E'!I51, 'Activity F'!I51, 'Activity G'!I51) -> 0 | R29: =SUM('Activity A'!J51,'Activity B'!J51,'Activity C'!J51,'Activity D'!J51,'Activity E'!J51, 'Activity F'!J51, 'Activity G'!J51) -> 0 | S29: =SUM(Q29:R29) -> 0 | U29: =SUM('Activity A'!K51,'Activity B'!K51,'Activity C'!K51,'Activity D'!K51,'Activity E'!K51, 'Activity F'!K51, 'Activity G'!K51) -> 0 | V29: =SUM('Activity A'!L51,'Activity B'!L51,'Activity C'!L51,'Activity D'!L51,'Activity E'!L51, 'Activity F'!L51, 'Activity G'!L51) -> 0 | W29: =SUM(U29:V29) -> 0 | Y29: =SUM('Activity A'!M51,'Activity B'!M51,'Activity C'!M51,'Activity D'!M51,'Activity E'!M51, 'Activity F'!M51, 'Activity G'!M51) -> 0 | Z29: =SUM('Activity A'!N51,'Activity B'!N51,'Activity C'!N51,'Activity D'!N51,'Activity E'!N51, 'Activity F'!N51, 'Activity G'!N51) -> 0 | AA29: =SUM(Y29:Z29) -> 0
A30: 4302 | B30: Research Facilities | E30: =SUM(I30,M30,Q30,U30,Y30) -> 0 | F30: =SUM(J30,N30,R30,V30,Z30) -> 0 | G30: =SUM(K30,O30,S30,W30,AA30) -> 0 | I30: =SUM('Activity A'!E52,'Activity B'!E52,'Activity C'!E52,'Activity D'!E52,'Activity E'!E52, 'Activity F'!E52, 'Activity G'!E52) -> 0 | J30: =SUM('Activity A'!F52,'Activity B'!F52,'Activity C'!F52,'Activity D'!F52,'Activity E'!F52, 'Activity F'!F52, 'Activity G'!F52) -> 0 | K30: =SUM(I30:J30) -> 0 | M30: =SUM('Activity A'!G52,'Activity B'!G52,'Activity C'!G52,'Activity D'!G52,'Activity E'!G52, 'Activity F'!G52, 'Activity G'!G52) -> 0 | N30: =SUM('Activity A'!H52,'Activity B'!H52,'Activity C'!H52,'Activity D'!H52,'Activity E'!H52, 'Activity F'!H52, 'Activity G'!H52) -> 0 | O30: =SUM(M30:N30) -> 0 | Q30: =SUM('Activity A'!I52,'Activity B'!I52,'Activity C'!I52,'Activity D'!I52,'Activity E'!I52, 'Activity F'!I52, 'Activity G'!I52) -> 0 | R30: =SUM('Activity A'!J52,'Activity B'!J52,'Activity C'!J52,'Activity D'!J52,'Activity E'!J52, 'Activity F'!J52, 'Activity G'!J52) -> 0 | S30: =SUM(Q30:R30) -> 0 | U30: =SUM('Activity A'!K52,'Activity B'!K52,'Activity C'!K52,'Activity D'!K52,'Activity E'!K52, 'Activity F'!K52, 'Activity G'!K52) -> 0 | V30: =SUM('Activity A'!L52,'Activity B'!L52,'Activity C'!L52,'Activity D'!L52,'Activity E'!L52, 'Activity F'!L52, 'Activity G'!L52) -> 0 | W30: =SUM(U30:V30) -> 0 | Y30: =SUM('Activity A'!M52,'Activity B'!M52,'Activity C'!M52,'Activity D'!M52,'Activity E'!M52, 'Activity F'!M52, 'Activity G'!M52) -> 0 | Z30: =SUM('Activity A'!N52,'Activity B'!N52,'Activity C'!N52,'Activity D'!N52,'Activity E'!N52, 'Activity F'!N52, 'Activity G'!N52) -> 0 | AA30: =SUM(Y30:Z30) -> 0
A31: 4999 | B31: Component Total | E31: =SUM(I31,M31,Q31,U31,Y31) -> 41000 | F31: =SUM(J31,N31,R31,V31,Z31) -> 123000 | G31: =SUM(K31,O31,S31,W31,AA31) -> 164000 | I31: =SUM(I25:I30) -> 5500 | J31: =SUM(J25:J30) -> 16500 | K31: =SUM(I31:J31) -> 22000 | M31: =SUM(M25:M30) -> 15000 | N31: =SUM(N25:N30) -> 45000 | O31: =SUM(M31:N31) -> 60000 | Q31: =SUM(Q25:Q30) -> 15000 | R31: =SUM(R25:R30) -> 45000 | S31: =SUM(Q31:R31) -> 60000 | U31: =SUM(U25:U30) -> 5500 | V31: =SUM(V25:V30) -> 16500 | W31: =SUM(U31:V31) -> 22000 | Y31: =SUM(Y25:Y30) -> 0 | Z31: =SUM(Z25:Z30) -> 0 | AA31: =SUM(Y31:Z31) -> 0
A32: 50 MISCELLANEOUS COMPONENT
A33: 5101 | B33: Equipment Maintenance | E33: =SUM(I33,M33,Q33,U33,Y33) -> 0 | F33: =SUM(J33,N33,R33,V33,Z33) -> 0 | G33: =SUM(K33,O33,S33,W33,AA33) -> 0 | I33: =SUM('Activity A'!E53,'Activity B'!E53,'Activity C'!E53,'Activity D'!E53,'Activity E'!E53, 'Activity F'!E53, 'Activity G'!E53) -> 0 | J33: =SUM('Activity A'!F53,'Activity B'!F53,'Activity C'!F53,'Activity D'!F53,'Activity E'!F53, 'Activity F'!F53, 'Activity G'!F53) -> 0 | K33: =SUM(I33:J33) -> 0 | M33: =SUM('Activity A'!G53,'Activity B'!G53,'Activity C'!G53,'Activity D'!G53,'Activity E'!G53, 'Activity F'!G53, 'Activity G'!G53) -> 0 | N33: =SUM('Activity A'!H53,'Activity B'!H53,'Activity C'!H53,'Activity D'!H53,'Activity E'!H53, 'Activity F'!H53, 'Activity G'!H53) -> 0 | O33: =SUM(M33:N33) -> 0 | Q33: =SUM('Activity A'!I53,'Activity B'!I53,'Activity C'!I53,'Activity D'!I53,'Activity E'!I53, 'Activity F'!I53, 'Activity G'!I53) -> 0 | R33: =SUM('Activity A'!J53,'Activity B'!J53,'Activity C'!J53,'Activity D'!J53,'Activity E'!J53, 'Activity F'!J53, 'Activity G'!J53) -> 0 | S33: =SUM(Q33:R33) -> 0 | U33: =SUM('Activity A'!K53,'Activity B'!K53,'Activity C'!K53,'Activity D'!K53,'Activity E'!K53, 'Activity F'!K53, 'Activity G'!K53) -> 0 | V33: =SUM('Activity A'!L53,'Activity B'!L53,'Activity C'!L53,'Activity D'!L53,'Activity E'!L53, 'Activity F'!L53, 'Activity G'!L53) -> 0 | W33: =SUM(U33:V33) -> 0 | Y33: =SUM('Activity A'!M53,'Activity B'!M53,'Activity C'!M53,'Activity D'!M53,'Activity E'!M53, 'Activity F'!M53, 'Activity G'!M53) -> 0 | Z33: =SUM('Activity A'!N53,'Activity B'!N53,'Activity C'!N53,'Activity D'!N53,'Activity E'!N53, 'Activity F'!N53, 'Activity G'!N53) -> 0 | AA33: =SUM(Y33:Z33) -> 0
A34: 5201 | B34: Publication, Translation, Dissemination and reporting costs | E34: =SUM(I34,M34,Q34,U34,Y34) -> 323500 | F34: =SUM(J34,N34,R34,V34,Z34) -> 970500 | G34: =SUM(K34,O34,S34,W34,AA34) -> 1294000 | I34: =SUM('Activity A'!E54,'Activity B'!E54,'Activity C'!E54,'Activity D'!E54,'Activity E'!E54, 'Activity F'!E54, 'Activity G'!E54) -> 42000 | J34: =SUM('Activity A'!F54,'Activity B'!F54,'Activity C'!F54,'Activity D'!F54,'Activity E'!F54, 'Activity F'!F54, 'Activity G'!F54) -> 126000 | K34: =SUM(I34:J34) -> 168000 | M34: =SUM('Activity A'!G54,'Activity B'!G54,'Activity C'!G54,'Activity D'!G54,'Activity E'!G54, 'Activity F'!G54, 'Activity G'!G54) -> 135500 | N34: =SUM('Activity A'!H54,'Activity B'!H54,'Activity C'!H54,'Activity D'!H54,'Activity E'!H54, 'Activity F'!H54, 'Activity G'!H54) -> 406500 | O34: =SUM(M34:N34) -> 542000 | Q34: =SUM('Activity A'!I54,'Activity B'!I54,'Activity C'!I54,'Activity D'!I54,'Activity E'!I54, 'Activity F'!I54, 'Activity G'!I54) -> 107000 | R34: =SUM('Activity A'!J54,'Activity B'!J54,'Activity C'!J54,'Activity D'!J54,'Activity E'!J54, 'Activity F'!J54, 'Activity G'!J54) -> 321000 | S34: =SUM(Q34:R34) -> 428000 | U34: =SUM('Activity A'!K54,'Activity B'!K54,'Activity C'!K54,'Activity D'!K54,'Activity E'!K54, 'Activity F'!K54, 'Activity G'!K54) -> 39000 | V34: =SUM('Activity A'!L54,'Activity B'!L54,'Activity C'!L54,'Activity D'!L54,'Activity E'!L54, 'Activity F'!L54, 'Activity G'!L54) -> 117000 | W34: =SUM(U34:V34) -> 156000 | Y34: =SUM('Activity A'!M54,'Activity B'!M54,'Activity C'!M54,'Activity D'!M54,'Activity E'!M54, 'Activity F'!M54, 'Activity G'!M54) -> 0 | Z34: =SUM('Activity A'!N54,'Activity B'!N54,'Activity C'!N54,'Activity D'!N54,'Activity E'!N54, 'Activity F'!N54, 'Activity G'!N54) -> 0 | AA34: =SUM(Y34:Z34) -> 0
A35: 5202 | B35: Audit Reports | E35: =SUM(I35,M35,Q35,U35,Y35) -> 5000 | F35: =SUM(J35,N35,R35,V35,Z35) -> 18000 | G35: =SUM(K35,O35,S35,W35,AA35) -> 23000 | I35: =SUM('Activity A'!E55,'Activity B'!E55,'Activity C'!E55,'Activity D'!E55,'Activity E'!E55, 'Activity F'!E55, 'Activity G'!E55) -> 1250 | J35: =SUM('Activity A'!F55,'Activity B'!F55,'Activity C'!F55,'Activity D'!F55,'Activity E'!F55, 'Activity F'!F55, 'Activity G'!F55) -> 3750 | K35: =SUM(I35:J35) -> 5000 | M35: =SUM('Activity A'!G55,'Activity B'!G55,'Activity C'!G55,'Activity D'!G55,'Activity E'!G55, 'Activity F'!G55, 'Activity G'!G55) -> 1250 | N35: =SUM('Activity A'!H55,'Activity B'!H55,'Activity C'!H55,'Activity D'!H55,'Activity E'!H55, 'Activity F'!H55, 'Activity G'!H55) -> 3750 | O35: =SUM(M35:N35) -> 5000 | Q35: =SUM('Activity A'!I55,'Activity B'!I55,'Activity C'!I55,'Activity D'!I55,'Activity E'!I55, 'Activity F'!I55, 'Activity G'!I55) -> 1250 | R35: =SUM('Activity A'!J55,'Activity B'!J55,'Activity C'!J55,'Activity D'!J55,'Activity E'!J55, 'Activity F'!J55, 'Activity G'!J55) -> 6750 | S35: =SUM(Q35:R35) -> 8000 | U35: =SUM('Activity A'!K55,'Activity B'!K55,'Activity C'!K55,'Activity D'!K55,'Activity E'!K55, 'Activity F'!K55, 'Activity G'!K55) -> 1250 | V35: =SUM('Activity A'!L55,'Activity B'!L55,'Activity C'!L55,'Activity D'!L55,'Activity E'!L55, 'Activity F'!L55, 'Activity G'!L55) -> 3750 | W35: =SUM(U35:V35) -> 5000 | Y35: =SUM('Activity A'!M55,'Activity B'!M55,'Activity C'!M55,'Activity D'!M55,'Activity E'!M55, 'Activity F'!M55, 'Activity G'!M55) -> 0 | Z35: =SUM('Activity A'!N55,'Activity B'!N55,'Activity C'!N55,'Activity D'!N55,'Activity E'!N55, 'Activity F'!N55, 'Activity G'!N55) -> 0 | AA35: =SUM(Y35:Z35) -> 0
A36: 5301 | B36: Communications (tel, fax, e-mail, etc..) | E36: =SUM(I36,M36,Q36,U36,Y36) -> 31000 | F36: =SUM(J36,N36,R36,V36,Z36) -> 97500 | G36: =SUM(K36,O36,S36,W36,AA36) -> 128500 | I36: =SUM('Activity A'!E56,'Activity B'!E56,'Activity C'!E56,'Activity D'!E56,'Activity E'!E56, 'Activity F'!E56, 'Activity G'!E56) -> 5000 | J36: =SUM('Activity A'!F56,'Activity B'!F56,'Activity C'!F56,'Activity D'!F56,'Activity E'!F56, 'Activity F'!F56, 'Activity G'!F56) -> 15000 | K36: =SUM(I36:J36) -> 20000 | M36: =SUM('Activity A'!G56,'Activity B'!G56,'Activity C'!G56,'Activity D'!G56,'Activity E'!G56, 'Activity F'!G56, 'Activity G'!G56) -> 12500 | N36: =SUM('Activity A'!H56,'Activity B'!H56,'Activity C'!H56,'Activity D'!H56,'Activity E'!H56, 'Activity F'!H56, 'Activity G'!H56) -> 37500 | O36: =SUM(M36:N36) -> 50000 | Q36: =SUM('Activity A'!I56,'Activity B'!I56,'Activity C'!I56,'Activity D'!I56,'Activity E'!I56, 'Activity F'!I56, 'Activity G'!I56) -> 10000 | R36: =SUM('Activity A'!J56,'Activity B'!J56,'Activity C'!J56,'Activity D'!J56,'Activity E'!J56, 'Activity F'!J56, 'Activity G'!J56) -> 34500 | S36: =SUM(Q36:R36) -> 44500 | U36: =SUM('Activity A'!K56,'Activity B'!K56,'Activity C'!K56,'Activity D'!K56,'Activity E'!K56, 'Activity F'!K56, 'Activity G'!K56) -> 3500 | V36: =SUM('Activity A'!L56,'Activity B'!L56,'Activity C'!L56,'Activity D'!L56,'Activity E'!L56, 'Activity F'!L56, 'Activity G'!L56) -> 10500 | W36: =SUM(U36:V36) -> 14000 | Y36: =SUM('Activity A'!M56,'Activity B'!M56,'Activity C'!M56,'Activity D'!M56,'Activity E'!M56, 'Activity F'!M56, 'Activity G'!M56) -> 0 | Z36: =SUM('Activity A'!N56,'Activity B'!N56,'Activity C'!N56,'Activity D'!N56,'Activity E'!N56, 'Activity F'!N56, 'Activity G'!N56) -> 0 | AA36: =SUM(Y36:Z36) -> 0
A37: 5302 | B37: Others | E37: =SUM(I37,M37,Q37,U37,Y37) -> 24000 | F37: =SUM(J37,N37,R37,V37,Z37) -> 94500 | G37: =SUM(K37,O37,S37,W37,AA37) -> 118500 | I37: =SUM('Activity A'!E57,'Activity B'!E57,'Activity C'!E57,'Activity D'!E57,'Activity E'!E57, 'Activity F'!E57, 'Activity G'!E57) -> 3000 | J37: =SUM('Activity A'!F57,'Activity B'!F57,'Activity C'!F57,'Activity D'!F57,'Activity E'!F57, 'Activity F'!F57, 'Activity G'!F57) -> 9000 | K37: =SUM(I37:J37) -> 12000 | M37: =SUM('Activity A'!G57,'Activity B'!G57,'Activity C'!G57,'Activity D'!G57,'Activity E'!G57, 'Activity F'!G57, 'Activity G'!G57) -> 14000 | N37: =SUM('Activity A'!H57,'Activity B'!H57,'Activity C'!H57,'Activity D'!H57,'Activity E'!H57, 'Activity F'!H57, 'Activity G'!H57) -> 57000 | O37: =SUM(M37:N37) -> 71000 | Q37: =SUM('Activity A'!I57,'Activity B'!I57,'Activity C'!I57,'Activity D'!I57,'Activity E'!I57, 'Activity F'!I57, 'Activity G'!I57) -> 4000 | R37: =SUM('Activity A'!J57,'Activity B'!J57,'Activity C'!J57,'Activity D'!J57,'Activity E'!J57, 'Activity F'!J57, 'Activity G'!J57) -> 19500 | S37: =SUM(Q37:R37) -> 23500 | U37: =SUM('Activity A'!K57,'Activity B'!K57,'Activity C'!K57,'Activity D'!K57,'Activity E'!K57, 'Activity F'!K57, 'Activity G'!K57) -> 3000 | V37: =SUM('Activity A'!L57,'Activity B'!L57,'Activity C'!L57,'Activity D'!L57,'Activity E'!L57, 'Activity F'!L57, 'Activity G'!L57) -> 9000 | W37: =SUM(U37:V37) -> 12000 | Y37: =SUM('Activity A'!M57,'Activity B'!M57,'Activity C'!M57,'Activity D'!M57,'Activity E'!M57, 'Activity F'!M57, 'Activity G'!M57) -> 0 | Z37: =SUM('Activity A'!N57,'Activity B'!N57,'Activity C'!N57,'Activity D'!N57,'Activity E'!N57, 'Activity F'!N57, 'Activity G'!N57) -> 0 | AA37: =SUM(Y37:Z37) -> 0
A38: 5303 | B38: Tech.Supp./Evaluation | E38: =SUM(I38,M38,Q38,U38,Y38) -> 35000 | F38: =SUM(J38,N38,R38,V38,Z38) -> 20000 | G38: =SUM(K38,O38,S38,W38,AA38) -> 55000 | I38: =SUM('Activity A'!E58,'Activity B'!E58,'Activity C'!E58,'Activity D'!E58,'Activity E'!E58, 'Activity F'!E58, 'Activity G'!E58) -> 0 | J38: =SUM('Activity A'!F58,'Activity B'!F58,'Activity C'!F58,'Activity D'!F58,'Activity E'!F58, 'Activity F'!F58, 'Activity G'!F58) -> 0 | K38: =SUM(I38:J38) -> 0 | M38: =SUM('Activity A'!G58,'Activity B'!G58,'Activity C'!G58,'Activity D'!G58,'Activity E'!G58, 'Activity F'!G58, 'Activity G'!G58) -> 10000 | N38: =SUM('Activity A'!H58,'Activity B'!H58,'Activity C'!H58,'Activity D'!H58,'Activity E'!H58, 'Activity F'!H58, 'Activity G'!H58) -> 10000 | O38: =SUM(M38:N38) -> 20000 | Q38: =SUM('Activity A'!I58,'Activity B'!I58,'Activity C'!I58,'Activity D'!I58,'Activity E'!I58, 'Activity F'!I58, 'Activity G'!I58) -> 0 | R38: =SUM('Activity A'!J58,'Activity B'!J58,'Activity C'!J58,'Activity D'!J58,'Activity E'!J58, 'Activity F'!J58, 'Activity G'!J58) -> 0 | S38: =SUM(Q38:R38) -> 0 | U38: =SUM('Activity A'!K58,'Activity B'!K58,'Activity C'!K58,'Activity D'!K58,'Activity E'!K58, 'Activity F'!K58, 'Activity G'!K58) -> 25000 | V38: =SUM('Activity A'!L58,'Activity B'!L58,'Activity C'!L58,'Activity D'!L58,'Activity E'!L58, 'Activity F'!L58, 'Activity G'!L58) -> 10000 | W38: =SUM(U38:V38) -> 35000 | Y38: =SUM('Activity A'!M58,'Activity B'!M58,'Activity C'!M58,'Activity D'!M58,'Activity E'!M58, 'Activity F'!M58, 'Activity G'!M58) -> 0 | Z38: =SUM('Activity A'!N58,'Activity B'!N58,'Activity C'!N58,'Activity D'!N58,'Activity E'!N58, 'Activity F'!N58, 'Activity G'!N58) -> 0 | AA38: =SUM(Y38:Z38) -> 0
A39: 5375 | B39: UN Agencies Support Charge | E39: =SUM(I39,M39,Q39,U39,Y39) -> 0 | F39: =SUM(J39,N39,R39,V39,Z39) -> 0 | G39: =SUM(K39,O39,S39,W39,AA39) -> 0 | I39: =SUM('Activity A'!E59,'Activity B'!E59,'Activity C'!E59,'Activity D'!E59,'Activity E'!E59, 'Activity F'!E59, 'Activity G'!E59) -> 0 | J39: =SUM('Activity A'!F59,'Activity B'!F59,'Activity C'!F59,'Activity D'!F59,'Activity E'!F59, 'Activity F'!F59, 'Activity G'!F59) -> 0 | K39: =SUM(I39:J39) -> 0 | M39: =SUM('Activity A'!G59,'Activity B'!G59,'Activity C'!G59,'Activity D'!G59,'Activity E'!G59, 'Activity F'!G59, 'Activity G'!G59) -> 0 | N39: =SUM('Activity A'!H59,'Activity B'!H59,'Activity C'!H59,'Activity D'!H59,'Activity E'!H59, 'Activity F'!H59, 'Activity G'!H59) -> 0 | O39: =SUM(M39:N39) -> 0 | Q39: =SUM('Activity A'!I59,'Activity B'!I59,'Activity C'!I59,'Activity D'!I59,'Activity E'!I59, 'Activity F'!I59, 'Activity G'!I59) -> 0 | R39: =SUM('Activity A'!J59,'Activity B'!J59,'Activity C'!J59,'Activity D'!J59,'Activity E'!J59, 'Activity F'!J59, 'Activity G'!J59) -> 0 | S39: =SUM(Q39:R39) -> 0 | U39: =SUM('Activity A'!K59,'Activity B'!K59,'Activity C'!K59,'Activity D'!K59,'Activity E'!K59, 'Activity F'!K59, 'Activity G'!K59) -> 0 | V39: =SUM('Activity A'!L59,'Activity B'!L59,'Activity C'!L59,'Activity D'!L59,'Activity E'!L59, 'Activity F'!L59, 'Activity G'!L59) -> 0 | W39: =SUM(U39:V39) -> 0 | Y39: =SUM('Activity A'!M59,'Activity B'!M59,'Activity C'!M59,'Activity D'!M59,'Activity E'!M59, 'Activity F'!M59, 'Activity G'!M59) -> 0 | Z39: =SUM('Activity A'!N59,'Activity B'!N59,'Activity C'!N59,'Activity D'!N59,'Activity E'!N59, 'Activity F'!N59, 'Activity G'!N59) -> 0 | AA39: =SUM(Y39:Z39) -> 0
A40: 5999 | B40: Component Total | E40: =SUM(I40,M40,Q40,U40,Y40) -> 418500 | F40: =SUM(J40,N40,R40,V40,Z40) -> 1200500 | G40: =SUM(K40,O40,S40,W40,AA40) -> 1619000 | I40: =SUM(I33:I39) -> 51250 | J40: =SUM(J33:J39) -> 153750 | K40: =SUM(I40:J40) -> 205000 | M40: =SUM(M33:M39) -> 173250 | N40: =SUM(N33:N39) -> 514750 | O40: =SUM(M40:N40) -> 688000 | Q40: =SUM(Q33:Q39) -> 122250 | R40: =SUM(R33:R39) -> 381750 | S40: =SUM(Q40:R40) -> 504000 | U40: =SUM(U33:U39) -> 71750 | V40: =SUM(V33:V39) -> 150250 | W40: =SUM(U40:V40) -> 222000 | Y40: =SUM(Y33:Y39) -> 0 | Z40: =SUM(Z33:Z39) -> 0 | AA40: =SUM(Y40:Z40) -> 0
A42: TOTAL COSTS | E42: =SUM(I42,M42,Q42,U42,Y42) -> 995000 | F42: =SUM(J42,N42,R42,V42,Z42) -> 2986500 | G42: =SUM(K42,O42,S42,W42,AA42) -> 3981500 | I42: =SUM(I40,I31,I23,I19,I15) -> 142000 | J42: =SUM(J40,J31,J23,J19,J15) -> 425250 | K42: =SUM(K40,K31,K23,K19,K15) -> 567250 | M42: =SUM(M40,M31,M23,M19,M15) -> 416500 | N42: =SUM(N40,N31,N23,N19,N15) -> 1245250 | O42: =SUM(O40,O31,O23,O19,O15) -> 1661750 | Q42: =SUM(Q40,Q31,Q23,Q19,Q15) -> 289500 | R42: =SUM(R40,R31,R23,R19,R15) -> 884250 | S42: =SUM(S40,S31,S23,S19,S15) -> 1173750 | U42: =SUM(U40,U31,U23,U19,U15) -> 147000 | V42: =SUM(V40,V31,V23,V19,V15) -> 431750 | W42: =SUM(W40,W31,W23,W19,W15) -> 578750 | Y42: =SUM(Y40,Y31,Y23,Y19,Y15) -> 0 | Z42: =SUM(Z40,Z31,Z23,Z19,Z15) -> 0 | AA42: =SUM(AA40,AA31,AA23,AA19,AA15) -> 0

Sheet ALL Activities
C2: Country details
A3: Project No: | C3: GFL-2328-2716-[XXXX]
A4: Project Name: | C4: Institutional Capacity to Enhance Biosafety Practices in Malaysia
A5: Executing Agency: | C5: Ministry of Natural Resources and Environment
A6: Activity code | B6: SubActivity code | C6: Project Activities / SubActivities
A8: A | C8: Needs assessment
A9: A | B9: 1 | C9: To develop consolidated action plan to guide the design of project
A10: A | B10: 2
A11: A | B11: 3
A12: A | B12: 4
A13: A | B13: 5
A14: A | B14: 6
A15: A | B15: 7
A16: A | B16: 8
A17: A | B17: 9
A18: A | B18: 10
A19: A | B19: 11
A20: A | B20: 12
A21: A | B21: 13
... A23: A | B23: 15
A25: B | C25: Risk and socio economic asssessment with related management framework
A26: B | B26: 1 | C26: To update RA and RM procedures and guidelines in line with recent developments under CPB
A27: B | B27: 2 | C27: To develop socio-economic guidelines and methodologies for assessment of LMO
A28: B | B28: 3
A29: B | B29: 4
A30: B | B30: 5
A31: B | B31: 6
A32: B | B32: 7
A33: B | B33: 8
A34: B | B34: 9
A35: B | B35: 10
A36: B | B36: 11
A37: B | B37: 12
A38: B | B38: 13
A39: B | B39: 14
A40: B | B40: 15
A42: C | C42: Framework for handling LMOs
A43: C | B43: 1 | C43: To develop procedural guidelines for handling, transport, packaging and identification of LMOs
A44: C | B44: 2 | C44: To develop implementation plan for the Nagoya – Kuala Lumpur Supplementary Protocol on Liability and Redress to the Cartagena Protocol on Biosafety developed
A45: C | B45: 3
...

Sheet Activity B
A1: =CONCATENATE("ACTIVITY ", 'ALL Activities'!A25, ": ", 'ALL Activities'!C25) -> ACTIVITY B: Risk and socio economic asssessment with related management framework | C1: Code: | E1: B1 | Q1: B2 | AC1: B3 | AO1: B4 | BA1: B5 | BM1: B6 | BY1: B7 | CK1: B8 | CW1: B9 | DI1: B10 | DU1: B11 | EG1: B12 | ES1: B13 | FE1: B14 | FQ1: B15
C2: SubActivity description: | E2: ='ALL Activities'!C26 -> To update RA and RM procedures and guidelines in line with recent developments under CPB | Q2: ='ALL Activities'!C27 -> To develop socio-economic guidelines and methodologies for assessment of LMO | AC2: ='ALL Activities'!C28 -> 0 | AO2: ='ALL Activities'!C29 -> 0 | BA2: ='ALL Activities'!C30 -> 0 | BM2: ='ALL Activities'!C31 -> 0 | BY2: ='ALL Activities'!C32 -> 0 | CK2: ='ALL Activities'!C33 -> 0 | CW2: ='ALL Activities'!C34 -> 0 | DI2: ='ALL Activities'!C35 -> 0 | DU2: ='ALL Activities'!C36 -> 0 | EG2: ='ALL Activities'!C37 -> 0 | ES2: ='ALL Activities'!C38 -> 0 | FE2: ='ALL Activities'!C39 -> 0 | FQ2: ='ALL Activities'!C40 -> 0
C3: Year: | E3: YEAR 1 | G3: YEAR 2 | I3: YEAR 3 | K3: YEAR 4 | M3: YEAR 5 | O3: TOTAL (specific activity) | Q3: YEAR 1 | S3: YEAR 2 | U3: YEAR 3 | W3: YEAR 4 | Y3: YEAR 5 | AA3: TOTAL (specific activity) | AC3: YEAR 1 | AE3: YEAR 2 | AG3: YEAR 3 | AI3: YEAR 4 | AK3: YEAR 5 | AM3: TOTAL (specific activity) | AO3: YEAR 1 | AQ3: YEAR 2 | AS3: YEAR 3 | AU3: YEAR 4 | AW3: YEAR 5 | AY3: TOTAL (specific activity) | BA3: YEAR 1 | BC3: YEAR 2 | BE3: YEAR 3 | BG3: YEAR 4 | BI3: YEAR 5 | BK3: TOTAL (specific activity) | BM3: YEAR 1 | BO3: YEAR 2 | BQ3: YEAR 3 | BS3: YEAR 4 | BU3: YEAR 5 | BW3: TOTAL (specific activity) | BY3: YEAR 1 | CA3: YEAR 2 | CC3: YEAR 3 | CE3: YEAR 4 | CG3: YEAR 5 | CI3: TOTAL (specific activity) | CK3: YEAR 1 | CM3: YEAR 2 | CO3: YEAR 3 | CQ3: YEAR 4 | CS3: YEAR 5 | CU3: TOTAL (specific activity) | CW3: YEAR 1 | CY3: YEAR 2 | DA3: YEAR 3 | DC3: YEAR 4 | DE3: YEAR 5 | DG3: TOTAL (specific activity) | DI3: YEAR 1 | DK3: YEAR 2 | DM3: YEAR 3 | DO3: YEAR 4 | DQ3: YEAR 5 | DS3: TOTAL (specific activity) | DU3: YEAR 1 | DW3: YEAR 2 | DY3: YEAR 3 | EA3: YEAR 4 | EC3: YEAR 5 | EE3: TOTAL (specific activity) | EG3: YEAR 1 | EI3: YEAR 2 | EK3: YEAR 3 | EM3: YEAR 4 | EO3: YEAR 5 | EQ3: TOTAL (specific activity) | ES3: YEAR 1 | EU3: YEAR 2 | EW3: YEAR 3 | EY3: YEAR 4 | FA3: YEAR 5 | FC3: TOTAL (specific activity) | FE3: YEAR 1 | FG3: YEAR 2 | FI3: YEAR 3 | FK3: YEAR 4 | FM3: YEAR 5 | FO3: TOTAL (specific activity) | FQ3: YEAR 1 | FS3: YEAR 2 | FU3: YEAR 3 | FW3: YEAR 4 | FY3: YEAR 5 | GA3: TOTAL (specific activity)
A4: Budget line justification | B4: BL number | C4: TOTAL (all sub-activities) | E4: GEF (US$) | F4: GOV (US$) | G4: GEF (US$) | H4: GOV (US$) | I4: GEF (US$) | J4: GOV (US$) | K4: GEF (US$) | L4: GOV (US$) | M4: GEF (US$) | N4: GOV (US$) | O4: GEF (US$) | P4: GOV (US$) | Q4: GEF (US$) | R4: GOV (US$) | S4: GEF (US$) | T4: GOV (US$) | U4: GEF (US$) | V4: GOV (US$) | W4: GEF (US$) | X4: GOV (US$) | Y4: GEF (US$) | Z4: GOV (US$) | AA4: GEF (US$) | AB4: GOV (US$) | AC4: GEF (US$) | AD4: GOV (US$) | AE4: GEF (US$) | AF4: GOV (US$) | AG4: GEF (US$) | AH4: GOV (US$) | AI4: GEF (US$) | AJ4: GOV (US$) | AK4: GEF (US$) | AL4: GOV (US$) | AM4: GEF (US$) | AN4: GOV (US$) | AO4: GEF (US$) | AP4: GOV (US$) | AQ4: GEF (US$) | AR4: GOV (US$) | AS4: GEF (US$) | AT4: GOV (US$) | AU4: GEF (US$) | AV4: GOV (US$) | AW4: GEF (US$) | AX4: GOV (US$) | AY4: GEF (US$) | AZ4: GOV (US$) | BA4: GEF (US$) | BB4: GOV (US$) | BC4: GEF (US$) | BD4: GOV (US$) | BE4: GEF (US$) | BF4: GOV (US$) | BG4: GEF (US$) | BH4: GOV (US$) | BI4: GEF (US$) | BJ4: GOV (US$) | BK4: GEF (US$) | BL4: GOV (US$) | BM4: GEF (US$) | BN4: GOV (US$) | BO4: GEF (US$) | BP4: GOV (US$) | BQ4: GEF (US$) | BR4: GOV (US$) | BS4: GEF (US$) | BT4: GOV (US$) | BU4: GEF (US$) | BV4: GOV (US$) | BW4: GEF (US$) | BX4: GOV (US$) | BY4: GEF (US$) | BZ4: GOV (US$) | CA4: GEF (US$) | CB4: GOV (US$) | CC4: GEF (US$) | CD4: GOV (US$) | CE4: GEF (US$) | CF4: GOV (US$) | CG4: GEF (US$) | CH4: GOV (US$) | CI4: GEF (US$) | CJ4: GOV (US$) | CK4: GEF (US$) | CL4: GOV (US$) | CM4: GEF (US$) | CN4: GOV (US$) | CO4: GEF (US$) | CP4: GOV (US$) | CQ4: GEF (US$) | CR4: GOV (US$) | CS4: GEF (US$) | CT4: GOV (US$) | CU4: GEF (US$) | CV4: GOV (US$) | CW4: GEF (US$) | CX4: GOV (US$) | CY4: GEF (US$) | CZ4: GOV (US$) | DA4: GEF (US$) | DB4: GOV (US$) | DC4: GEF (US$) | DD4: GOV (US$) | DE4: GEF (US$) | DF4: GOV (US$) | DG4: GEF (US$) | DH4: GOV (US$) | DI4: GEF (US$) | DJ4: GOV (US$) | DK4: GEF (US$) | DL4: GOV (US$) | DM4: GEF (US$) | DN4: GOV (US$) | DO4: GEF (US$) | DP4: GOV (US$) | DQ4: GEF (US$) | DR4: GOV (US$) | DS4: GEF (US$) | DT4: GOV (US$) | DU4: GEF (US$) | DV4: GOV (US$) | DW4: GEF (US$) | DX4: GOV (US$) | DY4: GEF (US$) | DZ4: GOV (US$) | EA4: GEF (US$) | EB4: GOV (US$) | EC4: GEF (US$) | ED4: GOV (US$) | EE4: GEF (US$) | EF4: GOV (US$) | EG4: GEF (US$) | EH4: GOV (US$) | EI4: GEF (US$) | EJ4: GOV (US$) | EK4: GEF (US$) | EL4: GOV (US$) | EM4: GEF (US$) | EN4: GOV (US$) | EO4: GEF (US$) | EP4: GOV (US$) | EQ4: GEF (US$) | ER4: GOV (US$) | ES4: GEF (US$) | ET4: GOV (US$) | EU4: GEF (US$) | EV4: GOV (US$) | EW4: GEF (US$) | EX4: GOV (US$) | EY4: GEF (US$) | EZ4: GOV (US$) | FA4: GEF (US$) | FB4: GOV (US$) | FC4: GEF (US$) | FD4: GOV (US$) | FE4: GEF (US$) | FF4: GOV (US$) | FG4: GEF (US$) | FH4: GOV (US$) | FI4: GEF (US$) | FJ4: GOV (US$) | FK4: GEF (US$) | FL4: GOV (US$) | FM4: GEF (US$) | FN4: GOV (US$) | FO4: GEF (US$) | FP4: GOV (US$) | FQ4: GEF (US$) | FR4: GOV (US$) | FS4: GEF (US$) | FT4: GOV (US$) | FU4: GEF (US$) | FV4: GOV (US$) | FW4: GEF (US$) | FX4: GOV (US$) | FY4: GEF (US$) | FZ4: GOV (US$) | GA4: GEF (US$) | GB4: GOV (US$)
C5: GEF (US$) | D5: GOV (US$)
A6: National Project Coordinator | B6: 1101 | C6: =SUM(O6,AA6,AM6,AY6,BK6,BW6,CI6,CU6,DG6,DS6,EE6,EQ6,FC6,FO6,GA6) -> 0 | D6: =SUM(P6,AB6,AN6,AZ6,BL6,BX6,CJ6,CV6,DH6,DT6,EF6,ER6,FD6,FP6,GB6) -> 0 | O6: =SUM(E6,G6,I6,K6,M6) -> 0 | P6: =SUM(F6,H6,J6,L6,N6) -> 0 | AA6: =SUM(Q6,S6,U6,W6,Y6) -> 0 | AB6: =SUM(R6,T6,V6,X6,Z6) -> 0 | AM6: =SUM(AC6,AE6,AG6,AI6,AK6) -> 0 | AN6: =SUM(AD6,AF6,AH6,AJ6,AL6) -> 0 | AY6: =SUM(AO6,AQ6,AS6,AU6,AW6) -> 0 | AZ6: =SUM(AP6,AR6,AT6,AV6,AX6) -> 0 | BK6: =SUM(BA6,BC6,BE6,BG6,BI6) -> 0 | BL6: =SUM(BB6,BD6,BF6,BH6,BJ6) -> 0 | BW6: =SUM(BM6,BO6,BQ6,BS6,BU6) -> 0 | BX6: =SUM(BN6,BP6,BR6,BT6,BV6) -> 0 | CI6: =SUM(BY6,CA6,CC6,CE6,CG6) -> 0 | CJ6: =SUM(BZ6,CB6,CD6,CF6,CH6) -> 0 | CU6: =SUM(CK6,CM6,CO6,CQ6,CS6) -> 0 | CV6: =SUM(CL6,CN6,CP6,CR6,CT6) -> 0 | DG6: =SUM(CW6,CY6,DA6,DC6,DE6) -> 0 | DH6: =SUM(CX6,CZ6,DB6,DD6,DF6) -> 0 | DS6: =SUM(DI6,DK6,DM6,DO6,DQ6) -> 0 | DT6: =SUM(DJ6,DL6,DN6,DP6,DR6) -> 0 | EE6: =SUM(DU6,DW6,DY6,EA6,EC6) -> 0 | EF6: =SUM(DV6,DX6,DZ6,EB6,ED6) -> 0 | EQ6: =SUM(EG6,EI6,EK6,EM6,EO6) -> 0 | ER6: =SUM(EH6,EJ6,EL6,EN6,EP6) -> 0 | FC6: =SUM(ES6,EU6,EW6,EY6,FA6) -> 0 | FD6: =SUM(ET6,EV6,EX6,EZ6,FB6) -> 0 | FO6: =SUM(FE6,FG6,FI6,FK6,FM6) -> 0 | FP6: =SUM(FF6,FH6,FJ6,FL6,FN6) -> 0 | GA6: =SUM(FQ6,FS6,FU6,FW6,FY6) -> 0 | GB6: =SUM(FR6,FT6,FV6,FX6,FZ6) -> 0
A7: Project Staff | B7: 1102 | C7: =SUM(O7,AA7,AM7,AY7,BK7,BW7,CI7,CU7,DG7,DS7,EE7,EQ7,FC7,FO7,GA7) -> 0 | D7: =SUM(P7,AB7,AN7,AZ7,BL7,BX7,CJ7,CV7,DH7,DT7,EF7,ER7,FD7,FP7,GB7) -> 72000 | F7: 6000 | H7: 24000 | J7: 6000 | O7: =SUM(E7,G7,I7,K7,M7) -> 0 | P7: =SUM(F7,H7,J7,L7,N7) -> 36000 | T7: 24000 | V7: 12000 | AA7: =SUM(Q7,S7,U7,W7,Y7) -> 0 | AB7: =SUM(R7,T7,V7,X7,Z7) -> 36000 | AM7: =SUM(AC7,AE7,AG7,AI7,AK7) -> 0 | AN7: =SUM(AD7,AF7,AH7,AJ7,AL7) -> 0 | AY7: =SUM(AO7,AQ7,AS7,AU7,AW7) -> 0 | AZ7: =SUM(AP7,AR7,AT7,AV7,AX7) -> 0 | BK7: =SUM(BA7,BC7,BE7,BG7,BI7) -> 0 | BL7: =SUM(BB7,BD7,BF7,BH7,BJ7) -> 0 | BW7: =SUM(BM7,BO7,BQ7,BS7,BU7) -> 0 | BX7: =SUM(BN7,BP7,BR7,BT7,BV7) -> 0 | CI7: =SUM(BY7,CA7,CC7,CE7,CG7) -> 0 | CJ7: =SUM(BZ7,CB7,CD7,CF7,CH7) -> 0 | CU7: =SUM(CK7,CM7,CO7,CQ7,CS7) -> 0 | CV7: =SUM(CL7,CN7,CP7,CR7,CT7) -> 0 | DG7: =SUM(CW7,CY7,DA7,DC7,DE7) -> 0 | DH7: =SUM(CX7,CZ7,DB7,DD7,DF7) -> 0 | DS7: =SUM(DI7,DK7,DM7,DO7,DQ7) -> 0 | DT7: =SUM(DJ7,DL7,DN7,DP7,DR7) -> 0 | EE7: =SUM(DU7,DW7,DY7,EA7,EC7) -> 0 | EF7: =SUM(DV7,DX7,DZ7,EB7,ED7) -> 0 | EQ7: =SUM(EG7,EI7,EK7,EM7,EO7) -> 0 | ER7: =SUM(EH7,EJ7,EL7,EN7,EP7) -> 0 | FC7: =SUM(ES7,EU7,EW7,EY7,FA7) -> 0 | FD7: =SUM(ET7,EV7,EX7,EZ7,FB7) -> 0 | FO7: =SUM(FE7,FG7,FI7,FK7,FM7) -> 0 | FP7: =SUM(FF7,FH7,FJ7,FL7,FN7) -> 0 | GA7: =SUM(FQ7,FS7,FU7,FW7,FY7) -> 0 | GB7: =SUM(FR7,FT7,FV7,FX7,FZ7) -> 0
A8: Administrative Staff | B8: 1120 | C8: =SUM(O8,AA8,AM8,AY8,BK8,BW8,CI8,CU8,DG8,DS8,EE8,EQ8,FC8,FO8,GA8) -> 0 | D8: =SUM(P8,AB8,AN8,AZ8,BL8,BX8,CJ8,CV8,DH8,DT8,EF8,ER8,FD8,FP8,GB8) -> 0 | O8: =SUM(E8,G8,I8,K8,M8) -> 0 | P8: =SUM(F8,H8,J8,L8,N8) -> 0 | AA8: =SUM(Q8,S8,U8,W8,Y8) -> 0 | AB8: =SUM(R8,T8,V8,X8,Z8) -> 0 | AM8: =SUM(AC8,AE8,AG8,AI8,AK8) -> 0 | AN8: =SUM(AD8,AF8,AH8,AJ8,AL8) -> 0 | AY8: =SUM(AO8,AQ8,AS8,AU8,AW8) -> 0 | AZ8: =SUM(AP8,AR8,AT8,AV8,AX8) -> 0 | BK8: =SUM(BA8,BC8,BE8,BG8,BI8) -> 0 | BL8: =SUM(BB8,BD8,BF8,BH8,BJ8) -> 0 | BW8: =SUM(BM8,BO8,BQ8,BS8,BU8) -> 0 | BX8: =SUM(BN8,BP8,BR8,BT8,BV8) -> 0 | CI8: =SUM(BY8,CA8,CC8,CE8,CG8) -> 0 | CJ8: =SUM(BZ8,CB8,CD8,CF8,CH8) -> 0 | CU8: =SUM(CK8,CM8,CO8,CQ8,CS8) -> 0 | CV8: =SUM(CL8,CN8,CP8,CR8,CT8) -> 0 | DG8: =SUM(CW8,CY8,DA8,DC8,DE8) -> 0 | DH8: =SUM(CX8,CZ8,DB8,DD8,DF8) -> 0 | DS8: =SUM(DI8,DK8,DM8,DO8,DQ8) -> 0 | DT8: =SUM(DJ8,DL8,DN8,DP8,DR8) -> 0 | EE8: =SUM(DU8,DW8,DY8,EA8,EC8) -> 0 | EF8: =SUM(DV8,DX8,DZ8,EB8,ED8) -> 0 | EQ8: =SUM(EG8,EI8,EK8,EM8,EO8) -> 0 | ER8: =SUM(EH8,EJ8,EL8,EN8,EP8) -> 0 | FC8: =SUM(ES8,EU8,EW8,EY8,FA8) -> 0 | FD8: =SUM(ET8,EV8,EX8,EZ8,FB8) -> 0 | FO8: =SUM(FE8,FG8,FI8,FK8,FM8) -> 0 | FP8: =SUM(FF8,FH8,FJ8,FL8,FN8) -> 0 | GA8: =SUM(FQ8,FS8,FU8,FW8,FY8) -> 0 | GB8: =SUM(FR8,FT8,FV8,FX8,FZ8) -> 0
A9: International Consultants | B9: 1201 | C9: =SUM(O9,AA9,AM9,AY9,BK9,BW9,CI9,CU9,DG9,DS9,EE9,EQ9,FC9,FO9,GA9) -> 4000 | D9: =SUM(P9,AB9,AN9,AZ9,BL9,BX9,CJ9,CV9,DH9,DT9,EF9,ER9,FD9,FP9,GB9) -> 0 | G9: 2000 | O9: =SUM(E9,G9,I9,K9,M9) -> 2000 | P9: =SUM(F9,H9,J9,L9,N9) -> 0 | S9: 2000 | AA9: =SUM(Q9,S9,U9,W9,Y9) -> 2000 | AB9: =SUM(R9,T9,V9,X9,Z9) -> 0 | AM9: =SUM(AC9,AE9,AG9,AI9,AK9) -> 0 | AN9: =SUM(AD9,AF9,AH9,AJ9,AL9) -> 0 | AY9: =SUM(AO9,AQ9,AS9,AU9,AW9) -> 0 | AZ9: =SUM(AP9,AR9,AT9,AV9,AX9) -> 0 | BK9: =SUM(BA9,BC9,BE9,BG9,BI9) -> 0 | BL9: =SUM(BB9,BD9,BF9,BH9,BJ9) -> 0 | BW9: =SUM(BM9,BO9,BQ9,BS9,BU9) -> 0 | BX9: =SUM(BN9,BP9,BR9,BT9,BV9) -> 0 | CI9: =SUM(BY9,CA9,CC9,CE9,CG9) -> 0 | CJ9: =SUM(BZ9,CB9,CD9,CF9,CH9) -> 0 | CU9: =SUM(CK9,CM9,CO9,CQ9,CS9) -> 0 | CV9: =SUM(CL9,CN9,CP9,CR9,CT9) -> 0 | DG9: =SUM(CW9,CY9,DA9,DC9,DE9) -> 0 | DH9: =SUM(CX9,CZ9,DB9,DD9,DF9) -> 0 | DS9: =SUM(DI9,DK9,DM9,DO9,DQ9) -> 0 | DT9: =SUM(DJ9,DL9,DN9,DP9,DR9) -> 0 | EE9: =SUM(DU9,DW9,DY9,EA9,EC9) -> 0 | EF9: =SUM(DV9,DX9,DZ9,EB9,ED9) -> 0 | EQ9: =SUM(EG9,EI9,EK9,EM9,EO9) -> 0 | ER9: =SUM(EH9,EJ9,EL9,EN9,EP9) -> 0 | FC9: =SUM(ES9,EU9,EW9,EY9,FA9) -> 0 | FD9: =SUM(ET9,EV9,EX9,EZ9,FB9) -> 0 | FO9: =SUM(FE9,FG9,FI9,FK9,FM9) -> 0 | FP9: =SUM(FF9,FH9,FJ9,FL9,FN9) -> 0 | GA9: =SUM(FQ9,FS9,FU9,FW9,FY9) -> 0 | GB9: =SUM(FR9,FT9,FV9,FX9,FZ9) -> 0
A10: National Consultants | B10: 1202 | C10: =SUM(O10,AA10,AM10,AY10,BK10,BW10,CI10,CU10,DG10,DS10,EE10,EQ10,FC10,FO10,GA10) -> 20000 | D10: =SUM(P10,AB10,AN10,AZ10,BL10,BX10,CJ10,CV10,DH10,DT10,EF10,ER10,FD10,FP10,GB10) -> 0 | E10: 2000 | G10: 6000 | I10: 2000 | O10: =SUM(E10,G10,I10,K10,M10) -> 10000 | P10: =SUM(F10,H10,J10,L10,N10) -> 0 | S10: 6000 | U10: 4000 | AA10: =SUM(Q10,S10,U10,W10,Y10) -> 10000 | AB10: =SUM(R10,T10,V10,X10,Z10) -> 0 | AM10: =SUM(AC10,AE10,AG10,AI10,AK10) -> 0 | AN10: =SUM(AD10,AF10,AH10,AJ10,AL10) -> 0 | AY10: =SUM(AO10,AQ10,AS10,AU10,AW10) -> 0 | AZ10: =SUM(AP10,AR10,AT10,AV10,AX10) -> 0 | BK10: =SUM(BA10,BC10,BE10,BG10,BI10) -> 0 | BL10: =SUM(BB10,BD10,BF10,BH10,BJ10) -> 0 | BW10: =SUM(BM10,BO10,BQ10,BS10,BU10) -> 0 | BX10: =SUM(BN10,BP10,BR10,BT10,BV10) -> 0 | CI10: =SUM(BY10,CA10,CC10,CE10,CG10) -> 0 | CJ10: =SUM(BZ10,CB10,CD10,CF10,CH10) -> 0 | CU10: =SUM(CK10,CM10,CO10,CQ10,CS10) -> 0 | CV10: =SUM(CL10,CN10,CP10,CR10,CT10) -> 0 | DG10: =SUM(CW10,CY10,DA10,DC10,DE10) -> 0 | DH10: =SUM(CX10,CZ10,DB10,DD10,DF10) -> 0 | DS10: =SUM(DI10,DK10,DM10,DO10,DQ10) -> 0 | DT10: =SUM(DJ10,DL10,DN10,DP10,DR10) -> 0 | EE10: =SUM(DU10,DW10,DY10,EA10,EC10) -> 0 | EF10: =SUM(DV10,DX10,DZ10,EB10,ED10) -> 0 | EQ10: =SUM(EG10,EI10,EK10,EM10,EO10) -> 0 | ER10: =SUM(EH10,EJ10,EL10,EN10,EP10) -> 0 | FC10: =SUM(ES10,EU10,EW10,EY10,FA10) -> 0 | FD10: =SUM(ET10,EV10,EX10,EZ10,FB10) -> 0 | FO10: =SUM(FE10,FG10,FI10,FK10,FM10) -> 0 | FP10: =SUM(FF10,FH10,FJ10,FL10,FN10) -> 0 | GA10: =SUM(FQ10,FS10,FU10,FW10,FY10) -> 0 | GB10: =SUM(FR10,FT10,FV10,FX10,FZ10) -> 0
A11: Staff Travel & Transport | B11: 1601 | C11: =SUM(O11,AA11,AM11,AY11,BK11,BW11,CI11,CU11,DG11,DS11,EE11,EQ11,FC11,FO11,GA11) -> 10000 | D11: =SUM(P11,AB11,AN11,AZ11,BL11,BX11,CJ11,CV11,DH11,DT11,EF11,ER11,FD11,FP11,GB11) -> 30000 | G11: 5000 | H11: 15000 | O11: =SUM(E11,G11,I11,K11,M11) -> 5000 | P11: =SUM(F11,H11,J11,L11,N11) -> 15000 | S11: 5000 | T11: 15000 | AA11: =SUM(Q11,S11,U11,W11,Y11) -> 5000 | AB11: =SUM(R11,T11,V11,X11,Z11) -> 15000 | AM11: =SUM(AC11,AE11,AG11,AI11,AK11) -> 0 | AN11: =SUM(AD11,AF11,AH11,AJ11,AL11) -> 0 | AY11: =SUM(AO11,AQ11,AS11,AU11,AW11) -> 0 | AZ11: =SUM(AP11,AR11,AT11,AV11,AX11) -> 0 | BK11: =SUM(BA11,BC11,BE11,BG11,BI11) -> 0 | BL11: =SUM(BB11,BD11,BF11,BH11,BJ11) -> 0 | BW11: =SUM(BM11,BO11,BQ11,BS11,BU11) -> 0 | BX11: =SUM(BN11,BP11,BR11,BT11,BV11) -> 0 | CI11: =SUM(BY11,CA11,CC11,CE11,CG11) -> 0 | CJ11: =SUM(BZ11,CB11,CD11,CF11,CH11) -> 0 | CU11: =SUM(CK11,CM11,CO11,CQ11,CS11) -> 0 | CV11: =SUM(CL11,CN11,CP11,CR11,CT11) -> 0 | DG11: =SUM(CW11,CY11,DA11,DC11,DE11) -> 0 | DH11: =SUM(CX11,CZ11,DB11,DD11,DF11) -> 0 | DS11: =SUM(DI11,DK11,DM11,DO11,DQ11) -> 0 | DT11: =SUM(DJ11,DL11,DN11,DP11,DR11) -> 0 | EE11: =SUM(DU11,DW11,DY11,EA11,EC11) -> 0 | EF11: =SUM(DV11,DX11,DZ11,EB11,ED11) -> 0 | EQ11: =SUM(EG11,EI11,EK11,EM11,EO11) -> 0 | ER11: =SUM(EH11,EJ11,EL11,EN11,EP11) -> 0 | FC11: =SUM(ES11,EU11,EW11,EY11,FA11) -> 0 | FD11: =SUM(ET11,EV11,EX11,EZ11,FB11) -> 0 | FO11: =SUM(FE11,FG11,FI11,FK11,FM11) -> 0 | FP11: =SUM(FF11,FH11,FJ11,FL11,FN11) -> 0 | GA11: =SUM(FQ11,FS11,FU11,FW11,FY11) -> 0 | GB11: =SUM(FR11,FT11,FV11,FX11,FZ11) -> 0
